BEGIN:VCALENDAR
VERSION:2.0
PRODID:-//Laura Wollenberg - ECPv6.15.20//NONSGML v1.0//EN
CALSCALE:GREGORIAN
METHOD:PUBLISH
X-WR-CALNAME:Laura Wollenberg
X-ORIGINAL-URL:https://laurawollenberg.com
X-WR-CALDESC:Events for Laura Wollenberg
REFRESH-INTERVAL;VALUE=DURATION:PT1H
X-Robots-Tag:noindex
X-PUBLISHED-TTL:PT1H
BEGIN:VTIMEZONE
TZID:America/Chicago
BEGIN:DAYLIGHT
TZOFFSETFROM:-0600
TZOFFSETTO:-0500
TZNAME:CDT
DTSTART:20250309T080000
END:DAYLIGHT
BEGIN:STANDARD
TZOFFSETFROM:-0500
TZOFFSETTO:-0600
TZNAME:CST
DTSTART:20251102T070000
END:STANDARD
BEGIN:DAYLIGHT
TZOFFSETFROM:-0600
TZOFFSETTO:-0500
TZNAME:CDT
DTSTART:20260308T080000
END:DAYLIGHT
BEGIN:STANDARD
TZOFFSETFROM:-0500
TZOFFSETTO:-0600
TZNAME:CST
DTSTART:20261101T070000
END:STANDARD
BEGIN:DAYLIGHT
TZOFFSETFROM:-0600
TZOFFSETTO:-0500
TZNAME:CDT
DTSTART:20270314T080000
END:DAYLIGHT
BEGIN:STANDARD
TZOFFSETFROM:-0500
TZOFFSETTO:-0600
TZNAME:CST
DTSTART:20271107T070000
END:STANDARD
END:VTIMEZONE
BEGIN:VEVENT
DTSTART;TZID=America/Chicago:20260206T183000
DTEND;TZID=America/Chicago:20260206T213000
DTSTAMP:20260422T231110
CREATED:20260127T175414Z
LAST-MODIFIED:20260127T175414Z
UID:10930-1770402600-1770413400@laurawollenberg.com
SUMMARY:Jagged Little Pill
DESCRIPTION:Playing at Robert’s Westside\, Forest Park\, IL
URL:https://laurawollenberg.com/event/jagged-little-pill-2/
LOCATION:Robert’s Westside\, 7321 Madison Street\, Forest Park\, IL\, 60130\, United States
CATEGORIES:Jagged Little Pill
ATTACH;FMTTYPE=image/png:https://laurawollenberg.com/wp-content/uploads/2025/04/JaggedLittlePill-scaled.png
END:VEVENT
BEGIN:VEVENT
DTSTART;TZID=America/Chicago:20260206T190000
DTEND;TZID=America/Chicago:20260206T220000
DTSTAMP:20260422T231110
CREATED:20260127T145605Z
LAST-MODIFIED:20260127T145605Z
UID:10902-1770404400-1770415200@laurawollenberg.com
SUMMARY:HairNation Chicago
DESCRIPTION:Playing at Old Republic Kitchen + Bar\, Elgin\, IL
URL:https://laurawollenberg.com/event/hairnation-chicago-2/
LOCATION:Old Republic Kitchen+Bar\, 155 S. Randall Road\, Elgin\, IL\, 60123\, United States
CATEGORIES:HairNation Chicago
ATTACH;FMTTYPE=image/jpeg:https://laurawollenberg.com/wp-content/uploads/2024/08/HairNation.jpg
END:VEVENT
BEGIN:VEVENT
DTSTART;TZID=America/Chicago:20260206T193000
DTEND;TZID=America/Chicago:20260206T213000
DTSTAMP:20260422T231110
CREATED:20260201T152806Z
LAST-MODIFIED:20260201T154922Z
UID:11051-1770406200-1770413400@laurawollenberg.com
SUMMARY:Simply Wally
DESCRIPTION:Playing at Villaggio Ristorante\, Roselle\, IL
URL:https://laurawollenberg.com/event/simply-wally/
LOCATION:Villaggio Ristorante\, 1242 W. Lake Street\, Roselle\, IL\, 60172\, United States
CATEGORIES:Simply Wally
ATTACH;FMTTYPE=image/jpeg:https://laurawollenberg.com/wp-content/uploads/2025/09/simplywally.jpeg
END:VEVENT
BEGIN:VEVENT
DTSTART;TZID=America/Chicago:20260206T200000
DTEND;TZID=America/Chicago:20260206T230000
DTSTAMP:20260422T231110
CREATED:20260103T180134Z
LAST-MODIFIED:20260103T180134Z
UID:10747-1770408000-1770418800@laurawollenberg.com
SUMMARY:Wildeye Band
DESCRIPTION:Playing at Shakers\, Ottawa\, IL
URL:https://laurawollenberg.com/event/wildeye-band-2/
LOCATION:Shakers\, 121 W. Stevenson Road\, Ottawa\, IL\, 61350\, United States
CATEGORIES:Wildeye Band
ATTACH;FMTTYPE=image/jpeg:https://laurawollenberg.com/wp-content/uploads/2026/01/WildeyeBand.jpg
END:VEVENT
BEGIN:VEVENT
DTSTART;TZID=America/Chicago:20260206T200000
DTEND;TZID=America/Chicago:20260206T230000
DTSTAMP:20260422T231110
CREATED:20260202T192500Z
LAST-MODIFIED:20260202T192500Z
UID:11109-1770408000-1770418800@laurawollenberg.com
SUMMARY:Wildwood Country Band
DESCRIPTION:Playing at 41 North Tavern\, St. Johns\, IN
URL:https://laurawollenberg.com/event/wildwood-country-band-18/
LOCATION:41 North Tavern\, 8101 Wicker Avenue\, St. John\, IN\, 46373\, United States
CATEGORIES:Wildwood Country Band
ATTACH;FMTTYPE=image/jpeg:https://laurawollenberg.com/wp-content/uploads/2025/11/wildwoodcountry.jpeg
END:VEVENT
BEGIN:VEVENT
DTSTART;TZID=America/Chicago:20260206T210000
DTEND;TZID=America/Chicago:20260206T233000
DTSTAMP:20260422T231110
CREATED:20251213T183912Z
LAST-MODIFIED:20251231T171714Z
UID:9968-1770411600-1770420600@laurawollenberg.com
SUMMARY:Libido Funk Circus
DESCRIPTION:Playing at EvenFlow\, Geneva\, IL
URL:https://laurawollenberg.com/event/libido-funk-circus-12/
LOCATION:EvenFlow\, 302 W. State Street\, Geneva\, IL\, 60134\, United States
CATEGORIES:Libido Funk Circus
ATTACH;FMTTYPE=image/png:https://laurawollenberg.com/wp-content/uploads/2025/04/libidoFunkCircus.png
END:VEVENT
END:VCALENDAR