BEGIN:VCALENDAR
VERSION:2.0
PRODID:-//Laura Wollenberg - ECPv6.15.20//NONSGML v1.0//EN
CALSCALE:GREGORIAN
METHOD:PUBLISH
X-ORIGINAL-URL:https://laurawollenberg.com
X-WR-CALDESC:Events for Laura Wollenberg
REFRESH-INTERVAL;VALUE=DURATION:PT1H
X-Robots-Tag:noindex
X-PUBLISHED-TTL:PT1H
BEGIN:VTIMEZONE
TZID:America/Chicago
BEGIN:DAYLIGHT
TZOFFSETFROM:-0600
TZOFFSETTO:-0500
TZNAME:CDT
DTSTART:20250309T080000
END:DAYLIGHT
BEGIN:STANDARD
TZOFFSETFROM:-0500
TZOFFSETTO:-0600
TZNAME:CST
DTSTART:20251102T070000
END:STANDARD
BEGIN:DAYLIGHT
TZOFFSETFROM:-0600
TZOFFSETTO:-0500
TZNAME:CDT
DTSTART:20260308T080000
END:DAYLIGHT
BEGIN:STANDARD
TZOFFSETFROM:-0500
TZOFFSETTO:-0600
TZNAME:CST
DTSTART:20261101T070000
END:STANDARD
BEGIN:DAYLIGHT
TZOFFSETFROM:-0600
TZOFFSETTO:-0500
TZNAME:CDT
DTSTART:20270314T080000
END:DAYLIGHT
BEGIN:STANDARD
TZOFFSETFROM:-0500
TZOFFSETTO:-0600
TZNAME:CST
DTSTART:20271107T070000
END:STANDARD
END:VTIMEZONE
BEGIN:VEVENT
DTSTART;TZID=America/Chicago:20260228T100000
DTEND;TZID=America/Chicago:20260228T160000
DTSTAMP:20260422T014928
CREATED:20260202T132105Z
LAST-MODIFIED:20260202T134628Z
UID:11070-1772272800-1772294400@laurawollenberg.com
SUMMARY:Sixteen Candles
DESCRIPTION:Playing at Capital Brewery and Bier Garten\, Middleton\, WI
URL:https://laurawollenberg.com/event/sixteen-candles-4/
LOCATION:Capital Brewery\, 7734 Terrance Avenue\, Middleton\, WI\, 53562\, United States
CATEGORIES:Sixteen Candles
ATTACH;FMTTYPE=image/jpeg:https://laurawollenberg.com/wp-content/uploads/2026/01/16Candles.jpeg
END:VEVENT
BEGIN:VEVENT
DTSTART;TZID=America/Chicago:20260228T180000
DTEND;TZID=America/Chicago:20260228T203000
DTSTAMP:20260422T014928
CREATED:20260222T160318Z
LAST-MODIFIED:20260222T160357Z
UID:11462-1772301600-1772310600@laurawollenberg.com
SUMMARY:Renegade Wildflower Duo
DESCRIPTION:Playing at Sew Hop’d Brewery\, Huntley\, IL
URL:https://laurawollenberg.com/event/renegade-wildflower-duo/
LOCATION:Sew Hop’d Brewery\, One Union Special Plaza\, Ste 113\, Huntley\, IL\, 60142\, United States
CATEGORIES:Renegade Wildflower Duo
ATTACH;FMTTYPE=image/jpeg:https://laurawollenberg.com/wp-content/uploads/2025/09/RenegadeWildflower.jpeg
END:VEVENT
BEGIN:VEVENT
DTSTART;TZID=America/Chicago:20260228T183000
DTEND;TZID=America/Chicago:20260228T203000
DTSTAMP:20260422T014928
CREATED:20260201T160437Z
LAST-MODIFIED:20260201T160437Z
UID:11059-1772303400-1772310600@laurawollenberg.com
SUMMARY:Simply Wally
DESCRIPTION:Playing at Niko’s Red Mill Tavern\, Woodstock\, IL
URL:https://laurawollenberg.com/event/simply-wally-11/
LOCATION:Niko’s Red Mill Tavern\, 1040 Lake Avenue\, Woodstock\, IL\, 60098\, United States
CATEGORIES:Simply Wally
ATTACH;FMTTYPE=image/jpeg:https://laurawollenberg.com/wp-content/uploads/2025/09/simplywally.jpeg
END:VEVENT
BEGIN:VEVENT
DTSTART;TZID=America/Chicago:20260228T190000
DTEND;TZID=America/Chicago:20260228T220000
DTSTAMP:20260422T014928
CREATED:20251231T150137Z
LAST-MODIFIED:20251231T150137Z
UID:10599-1772305200-1772316000@laurawollenberg.com
SUMMARY:Bon Journeyed
DESCRIPTION:Playing at Geneva Stage\, Lake Geneva\, WI
URL:https://laurawollenberg.com/event/bon-journeyed/
LOCATION:Geneva Stage\, 244 Broad Street\, Lake Geneva\, WI\, 53105\, United States
CATEGORIES:Bon Journeyed
ATTACH;FMTTYPE=image/png:https://laurawollenberg.com/wp-content/uploads/2025/04/BonJourneyed.png
END:VEVENT
BEGIN:VEVENT
DTSTART;TZID=America/Chicago:20260228T193000
DTEND;TZID=America/Chicago:20260228T223000
DTSTAMP:20260422T014928
CREATED:20260127T174912Z
LAST-MODIFIED:20260127T174912Z
UID:10923-1772307000-1772317800@laurawollenberg.com
SUMMARY:InFunktious
DESCRIPTION:Playing at Open Range Grill\, Sugar Grove\, IL
URL:https://laurawollenberg.com/event/infunktious-10/
LOCATION:Open Range Grill\, 1 Golf View Road\, Sugar Grove\, IL\, 60554\, United States
CATEGORIES:InFunktious
ATTACH;FMTTYPE=image/png:https://laurawollenberg.com/wp-content/uploads/2025/01/Infunktious-1.png
END:VEVENT
BEGIN:VEVENT
DTSTART;TZID=America/Chicago:20260228T193000
DTEND;TZID=America/Chicago:20260228T233000
DTSTAMP:20260422T014928
CREATED:20251231T135737Z
LAST-MODIFIED:20251231T135737Z
UID:10586-1772307000-1772321400@laurawollenberg.com
SUMMARY:Anthem
DESCRIPTION:Playing at Jamo’s Live\, Mokena\, IL \nwith Tom Sawyer
URL:https://laurawollenberg.com/event/anthem/
LOCATION:Jamo’s Live\, 10160 191st Street\, Mokena\, IL\, 60448\, United States
CATEGORIES:Anthem
ATTACH;FMTTYPE=image/jpeg:https://laurawollenberg.com/wp-content/uploads/2024/11/Anthem.jpg
END:VEVENT
BEGIN:VEVENT
DTSTART;TZID=America/Chicago:20260228T200000
DTEND;TZID=America/Chicago:20260228T223000
DTSTAMP:20260422T014928
CREATED:20251231T172542Z
LAST-MODIFIED:20251231T172542Z
UID:10664-1772308800-1772317800@laurawollenberg.com
SUMMARY:The Disco Circus (Libido Funk Circus)
DESCRIPTION:Playing at Q Casino + Resort\, Dubuque\, IA
URL:https://laurawollenberg.com/event/the-disco-circus-libido-funk-circus-5/
LOCATION:Q Casino + Resort\, 1855 Greyhound Park Road\, Dubuque\, IA\, 52001\, United States
CATEGORIES:The Disco Circus
ATTACH;FMTTYPE=image/png:https://laurawollenberg.com/wp-content/uploads/2025/06/disco-circus-e1749476384439.png
END:VEVENT
BEGIN:VEVENT
DTSTART;TZID=America/Chicago:20260228T200000
DTEND;TZID=America/Chicago:20260228T230000
DTSTAMP:20260422T014928
CREATED:20260103T173301Z
LAST-MODIFIED:20260103T173301Z
UID:10739-1772308800-1772319600@laurawollenberg.com
SUMMARY:Storm Empress
DESCRIPTION:Playing at Local Bar & Grille\, Wood Dale\, IL
URL:https://laurawollenberg.com/event/storm-empress-2/
LOCATION:Local Bar & Grille\, 396 Irving Park Road\, Wood Dale\, IL\, 60191\, United States
CATEGORIES:Storm Empress
ATTACH;FMTTYPE=image/jpeg:https://laurawollenberg.com/wp-content/uploads/2026/01/Storm-Empress.jpeg
END:VEVENT
BEGIN:VEVENT
DTSTART;TZID=America/Chicago:20260228T200000
DTEND;TZID=America/Chicago:20260228T230000
DTSTAMP:20260422T014928
CREATED:20260201T144737Z
LAST-MODIFIED:20260201T144737Z
UID:11045-1772308800-1772319600@laurawollenberg.com
SUMMARY:Fast Times Chicago
DESCRIPTION:Playing at Broken Oar\, Port Barrington\, IL
URL:https://laurawollenberg.com/event/fast-times-chicago/
LOCATION:Broken Oar\, 614 Rawson Bridge Road\, Port Barrington\, IL\, 60010\, United States
CATEGORIES:Fast Times Chicago
ATTACH;FMTTYPE=image/jpeg:https://laurawollenberg.com/wp-content/uploads/2024/11/fasttimeschi-1.jpg
END:VEVENT
BEGIN:VEVENT
DTSTART;TZID=America/Chicago:20260228T200000
DTEND;TZID=America/Chicago:20260228T233000
DTSTAMP:20260422T014928
CREATED:20260128T183324Z
LAST-MODIFIED:20260224T231415Z
UID:10971-1772308800-1772321400@laurawollenberg.com
SUMMARY:Maiden Chicago
DESCRIPTION:Playing at JJ Kelley’s\, Lansing\, IL \nwith Hard Rock Radio
URL:https://laurawollenberg.com/event/maiden-chicago/
LOCATION:JJ Kelley’s\, 2455 Bernice Road\, Lansing\, IL\, 60438\, United States
CATEGORIES:Maiden Chicago
ATTACH;FMTTYPE=image/png:https://laurawollenberg.com/wp-content/uploads/2025/04/MaidenChicago-scaled.png
END:VEVENT
BEGIN:VEVENT
DTSTART;TZID=America/Chicago:20260228T203000
DTEND;TZID=America/Chicago:20260228T233000
DTSTAMP:20260422T014928
CREATED:20251231T152638Z
LAST-MODIFIED:20251231T152747Z
UID:10611-1772310600-1772321400@laurawollenberg.com
SUMMARY:Eleven
DESCRIPTION:Playing at Chicago Loop Sport Bar & Grill\, Streamwood\, IL
URL:https://laurawollenberg.com/event/eleven-2/
LOCATION:Chicago Loop Sports Bar & Grill\, 7 W. Streamwood Boulevard\, Streamwood\, IL\, 60107\, United States
CATEGORIES:Eleven
ATTACH;FMTTYPE=image/jpeg:https://laurawollenberg.com/wp-content/uploads/2024/09/11.jpg
END:VEVENT
BEGIN:VEVENT
DTSTART;TZID=America/Chicago:20260228T203000
DTEND;TZID=America/Chicago:20260228T233000
DTSTAMP:20260422T014928
CREATED:20260202T181220Z
LAST-MODIFIED:20260202T181220Z
UID:11095-1772310600-1772321400@laurawollenberg.com
SUMMARY:Sunset Strip
DESCRIPTION:Playing at Rascal’s Bar & Grill\, Loves Park\, IL
URL:https://laurawollenberg.com/event/sunset-strip-3/
LOCATION:Rascal’s Bar & Grill\, 5223 Torque Road\, Loves Park\, IL\, 61111\, United States
CATEGORIES:Sunset Strip
ATTACH;FMTTYPE=image/png:https://laurawollenberg.com/wp-content/uploads/2025/09/SunsetStrip-scaled.png
END:VEVENT
BEGIN:VEVENT
DTSTART;TZID=America/Chicago:20260228T210000
DTEND;TZID=America/Chicago:20260228T233000
DTSTAMP:20260422T014928
CREATED:20251231T193804Z
LAST-MODIFIED:20251231T193804Z
UID:10680-1772312400-1772321400@laurawollenberg.com
SUMMARY:My 80's Band
DESCRIPTION:Playing at Suzy’s Bar & Grill\, Yorkville\, IL
URL:https://laurawollenberg.com/event/my-80s-band-20/
LOCATION:Suzy’s Bar & Grill\, 4353 Tuma Road\, Yorkville\, IL\, 60560\, United States
CATEGORIES:My 80's Band
ATTACH;FMTTYPE=image/png:https://laurawollenberg.com/wp-content/uploads/2025/04/My80sBand.png
END:VEVENT
BEGIN:VEVENT
DTSTART;TZID=America/Chicago:20260228T210000
DTEND;TZID=America/Chicago:20260228T233000
DTSTAMP:20260422T014928
CREATED:20260103T163433Z
LAST-MODIFIED:20260103T163433Z
UID:10728-1772312400-1772321400@laurawollenberg.com
SUMMARY:Tom Sawyer
DESCRIPTION:Playing at Jamo’s Live\, Mokena\, IL
URL:https://laurawollenberg.com/event/tom-sawyer-5/
LOCATION:Jamo’s Live\, 10160 191st Street\, Mokena\, IL\, 60448\, United States
CATEGORIES:Tom Sawyer
ATTACH;FMTTYPE=image/jpeg:https://laurawollenberg.com/wp-content/uploads/2024/03/tsawyer-e1709573083842.jpg
END:VEVENT
BEGIN:VEVENT
DTSTART;TZID=America/Chicago:20260228T210000
DTEND;TZID=America/Chicago:20260228T233000
DTSTAMP:20260422T014928
CREATED:20260122T232823Z
LAST-MODIFIED:20260122T232823Z
UID:10875-1772312400-1772321400@laurawollenberg.com
SUMMARY:The Electric Cars
DESCRIPTION:Playing at Madcats\, Palatine\, IL
URL:https://laurawollenberg.com/event/the-electric-cars/
LOCATION:Madcats\, 117 W. Slade Street\, Palatine\, IL\, 60067\, United States
CATEGORIES:The Electric Cars
ATTACH;FMTTYPE=image/jpeg:https://laurawollenberg.com/wp-content/uploads/2025/11/electriccars.jpeg
END:VEVENT
BEGIN:VEVENT
DTSTART;TZID=America/Chicago:20260228T210000
DTEND;TZID=America/Chicago:20260228T233000
DTSTAMP:20260422T014928
CREATED:20260201T002522Z
LAST-MODIFIED:20260201T002522Z
UID:11028-1772312400-1772321400@laurawollenberg.com
SUMMARY:Poison'd Crue
DESCRIPTION:Playing at Corrigan’s Pub\, Shorewood\, IL
URL:https://laurawollenberg.com/event/poisond-crue-2/
LOCATION:Corrigan’s Pub\, 700 W. Jefferson Street\, Shorewood\, IL\, 60431\, United States
CATEGORIES:Poison'D Crue
ATTACH;FMTTYPE=image/png:https://laurawollenberg.com/wp-content/uploads/2024/05/poisond-crue.png
END:VEVENT
BEGIN:VEVENT
DTSTART;TZID=America/Chicago:20260228T210000
DTEND;TZID=America/Chicago:20260228T233000
DTSTAMP:20260422T014928
CREATED:20260218T205621Z
LAST-MODIFIED:20260218T205621Z
UID:11312-1772312400-1772321400@laurawollenberg.com
SUMMARY:Bottomz Up
DESCRIPTION:Playing at Thirsty Beaver\, Crestwood\, IL
URL:https://laurawollenberg.com/event/bottomz-up-3/
LOCATION:Thirsty Beaver\, 5599 W. 127th Street\, Crestwood\, IL\, 60445\, United States
CATEGORIES:Bottomz Up
ATTACH;FMTTYPE=image/jpeg:https://laurawollenberg.com/wp-content/uploads/2024/11/bottomzupband.jpg
END:VEVENT
END:VCALENDAR