BEGIN:VCALENDAR
VERSION:2.0
PRODID:-//Laura Wollenberg - ECPv6.15.20//NONSGML v1.0//EN
CALSCALE:GREGORIAN
METHOD:PUBLISH
X-WR-CALNAME:Laura Wollenberg
X-ORIGINAL-URL:https://laurawollenberg.com
X-WR-CALDESC:Events for Laura Wollenberg
REFRESH-INTERVAL;VALUE=DURATION:PT1H
X-Robots-Tag:noindex
X-PUBLISHED-TTL:PT1H
BEGIN:VTIMEZONE
TZID:America/Chicago
BEGIN:DAYLIGHT
TZOFFSETFROM:-0600
TZOFFSETTO:-0500
TZNAME:CDT
DTSTART:20250309T080000
END:DAYLIGHT
BEGIN:STANDARD
TZOFFSETFROM:-0500
TZOFFSETTO:-0600
TZNAME:CST
DTSTART:20251102T070000
END:STANDARD
BEGIN:DAYLIGHT
TZOFFSETFROM:-0600
TZOFFSETTO:-0500
TZNAME:CDT
DTSTART:20260308T080000
END:DAYLIGHT
BEGIN:STANDARD
TZOFFSETFROM:-0500
TZOFFSETTO:-0600
TZNAME:CST
DTSTART:20261101T070000
END:STANDARD
BEGIN:DAYLIGHT
TZOFFSETFROM:-0600
TZOFFSETTO:-0500
TZNAME:CDT
DTSTART:20270314T080000
END:DAYLIGHT
BEGIN:STANDARD
TZOFFSETFROM:-0500
TZOFFSETTO:-0600
TZNAME:CST
DTSTART:20271107T070000
END:STANDARD
END:VTIMEZONE
BEGIN:VEVENT
DTSTART;TZID=America/Chicago:20260313T183000
DTEND;TZID=America/Chicago:20260313T203000
DTSTAMP:20260421T084838
CREATED:20260128T192622Z
LAST-MODIFIED:20260128T192748Z
UID:10980-1773426600-1773433800@laurawollenberg.com
SUMMARY:Members Only
DESCRIPTION:Playing at ShamROCK the Fox\, McHenry\, IL
URL:https://laurawollenberg.com/event/members-only-100/
LOCATION:McHenry ShamROCKS the Fox\, 1202 Riverside Drive\, Mchenry\, IL\, 60050\, United States
CATEGORIES:Members Only
ATTACH;FMTTYPE=image/png:https://laurawollenberg.com/wp-content/uploads/2025/12/MembersOnly.png
END:VEVENT
BEGIN:VEVENT
DTSTART;TZID=America/Chicago:20260313T190000
DTEND;TZID=America/Chicago:20260313T210000
DTSTAMP:20260421T084838
CREATED:20260201T010918Z
LAST-MODIFIED:20260201T010918Z
UID:11030-1773428400-1773435600@laurawollenberg.com
SUMMARY:Poison'd Crue
DESCRIPTION:Playing at Broken Oar\, Port Barrington\, IL \nwith Sins N Roses
URL:https://laurawollenberg.com/event/poisond-crue-3/
LOCATION:Broken Oar\, 614 Rawson Bridge Road\, Port Barrington\, IL\, 60010\, United States
CATEGORIES:Poison'D Crue
ATTACH;FMTTYPE=image/png:https://laurawollenberg.com/wp-content/uploads/2024/05/poisond-crue.png
END:VEVENT
BEGIN:VEVENT
DTSTART;TZID=America/Chicago:20260313T190000
DTEND;TZID=America/Chicago:20260313T213000
DTSTAMP:20260421T084838
CREATED:20260124T152303Z
LAST-MODIFIED:20260219T220712Z
UID:10888-1773428400-1773437400@laurawollenberg.com
SUMMARY:Empress Duo
DESCRIPTION:Playing at Niko’s Grill & Pub\, Marengo\, IL
URL:https://laurawollenberg.com/event/empress-band/
LOCATION:Niko’s Grill & Pub\, 7509 S. Grant Highway\, Marengo\, IL\, 60152\, United States
CATEGORIES:Empress Duo
ATTACH;FMTTYPE=image/jpeg:https://laurawollenberg.com/wp-content/uploads/2026/01/EmpressBand.jpeg
END:VEVENT
BEGIN:VEVENT
DTSTART;TZID=America/Chicago:20260313T200000
DTEND;TZID=America/Chicago:20260313T230000
DTSTAMP:20260421T084838
CREATED:20260202T135036Z
LAST-MODIFIED:20260202T135036Z
UID:11073-1773432000-1773442800@laurawollenberg.com
SUMMARY:Sixteen Candles
DESCRIPTION:Playing at Impact Fuel Room\, Libertyville\, IL
URL:https://laurawollenberg.com/event/sixteen-candles-5/
LOCATION:Impact Fuel Room\, 481 Peterson Road\, Libertyville\, IL\, 60048\, United States
CATEGORIES:Sixteen Candles
ATTACH;FMTTYPE=image/jpeg:https://laurawollenberg.com/wp-content/uploads/2026/01/16Candles.jpeg
END:VEVENT
BEGIN:VEVENT
DTSTART;TZID=America/Chicago:20260313T210000
DTEND;TZID=America/Chicago:20260313T233000
DTSTAMP:20260421T084838
CREATED:20260222T225157Z
LAST-MODIFIED:20260222T225224Z
UID:11479-1773435600-1773444600@laurawollenberg.com
SUMMARY:Sins N' Roses
DESCRIPTION:Playing at Broken Oar\, Port Barrington\, IL\nwith Poison’d Crue
URL:https://laurawollenberg.com/event/sins-n-roses-3/
LOCATION:Broken Oar\, 614 Rawson Bridge Road\, Port Barrington\, IL\, 60010\, United States
CATEGORIES:Sins N' Roses
ATTACH;FMTTYPE=image/jpeg:https://laurawollenberg.com/wp-content/uploads/2024/02/SNR.jpg
END:VEVENT
END:VCALENDAR