BEGIN:VCALENDAR
VERSION:2.0
PRODID:-//Laura Wollenberg - ECPv6.15.20//NONSGML v1.0//EN
CALSCALE:GREGORIAN
METHOD:PUBLISH
X-ORIGINAL-URL:https://laurawollenberg.com
X-WR-CALDESC:Events for Laura Wollenberg
REFRESH-INTERVAL;VALUE=DURATION:PT1H
X-Robots-Tag:noindex
X-PUBLISHED-TTL:PT1H
BEGIN:VTIMEZONE
TZID:America/Chicago
BEGIN:DAYLIGHT
TZOFFSETFROM:-0600
TZOFFSETTO:-0500
TZNAME:CDT
DTSTART:20250309T080000
END:DAYLIGHT
BEGIN:STANDARD
TZOFFSETFROM:-0500
TZOFFSETTO:-0600
TZNAME:CST
DTSTART:20251102T070000
END:STANDARD
BEGIN:DAYLIGHT
TZOFFSETFROM:-0600
TZOFFSETTO:-0500
TZNAME:CDT
DTSTART:20260308T080000
END:DAYLIGHT
BEGIN:STANDARD
TZOFFSETFROM:-0500
TZOFFSETTO:-0600
TZNAME:CST
DTSTART:20261101T070000
END:STANDARD
BEGIN:DAYLIGHT
TZOFFSETFROM:-0600
TZOFFSETTO:-0500
TZNAME:CDT
DTSTART:20270314T080000
END:DAYLIGHT
BEGIN:STANDARD
TZOFFSETFROM:-0500
TZOFFSETTO:-0600
TZNAME:CST
DTSTART:20271107T070000
END:STANDARD
END:VTIMEZONE
BEGIN:VEVENT
DTSTART;TZID=America/Chicago:20260328T180000
DTEND;TZID=America/Chicago:20260328T200000
DTSTAMP:20260421T185251
CREATED:20260122T184014Z
LAST-MODIFIED:20260122T184036Z
UID:10835-1774720800-1774728000@laurawollenberg.com
SUMMARY:ARRA
DESCRIPTION:Playing at Jamo’s Live\, Mokena\, IL
URL:https://laurawollenberg.com/event/arra-3/
LOCATION:Jamo’s Live\, 10160 191st Street\, Mokena\, IL\, 60448\, United States
CATEGORIES:ARRA
ATTACH;FMTTYPE=image/png:https://laurawollenberg.com/wp-content/uploads/2025/04/arra.png
END:VEVENT
BEGIN:VEVENT
DTSTART;TZID=America/Chicago:20260328T180000
DTEND;TZID=America/Chicago:20260328T200000
DTSTAMP:20260421T185251
CREATED:20260201T170256Z
LAST-MODIFIED:20260201T170256Z
UID:11065-1774720800-1774728000@laurawollenberg.com
SUMMARY:Simply Wally
DESCRIPTION:Playing at Sew Hop’d Brewery\, Huntley\, IL
URL:https://laurawollenberg.com/event/simply-wally-14/
LOCATION:Sew Hop’d Brewery\, One Union Special Plaza\, Ste 113\, Huntley\, IL\, 60142\, United States
CATEGORIES:Simply Wally
ATTACH;FMTTYPE=image/jpeg:https://laurawollenberg.com/wp-content/uploads/2025/09/simplywally.jpeg
END:VEVENT
BEGIN:VEVENT
DTSTART;TZID=America/Chicago:20260328T180000
DTEND;TZID=America/Chicago:20260328T210000
DTSTAMP:20260421T185251
CREATED:20260127T191908Z
LAST-MODIFIED:20260127T191908Z
UID:10950-1774720800-1774731600@laurawollenberg.com
SUMMARY:Kashmir
DESCRIPTION:Playing at Broken Oar\, Port Barrington\, IL
URL:https://laurawollenberg.com/event/kashmir-14/
LOCATION:Broken Oar\, 614 Rawson Bridge Road\, Port Barrington\, IL\, 60010\, United States
CATEGORIES:Kashmir
ATTACH;FMTTYPE=image/jpeg:https://laurawollenberg.com/wp-content/uploads/2025/05/Kashmir.jpg
END:VEVENT
BEGIN:VEVENT
DTSTART;TZID=America/Chicago:20260328T190000
DTEND;TZID=America/Chicago:20260328T233000
DTSTAMP:20260421T185251
CREATED:20260202T182921Z
LAST-MODIFIED:20260202T182921Z
UID:11104-1774724400-1774740600@laurawollenberg.com
SUMMARY:T-N-T Chicago
DESCRIPTION:Playing at Sundance Saloon\, Mundelein\, IL
URL:https://laurawollenberg.com/event/t-n-t-chicago-2/
LOCATION:Sundance Saloon\, 2061 W. Maple Avenue\, Mundelein\, IL\, 60060\, United States
CATEGORIES:T-N-T Chicago
ATTACH;FMTTYPE=image/jpeg:https://laurawollenberg.com/wp-content/uploads/2024/05/tnt.jpg
END:VEVENT
BEGIN:VEVENT
DTSTART;TZID=America/Chicago:20260328T193000
DTEND;TZID=America/Chicago:20260328T210000
DTSTAMP:20260421T185251
CREATED:20260128T152306Z
LAST-MODIFIED:20260128T152306Z
UID:10965-1774726200-1774731600@laurawollenberg.com
SUMMARY:Lounge Puppets
DESCRIPTION:Playing at Tailgaters\, Bolingbrook\, IL
URL:https://laurawollenberg.com/event/lounge-puppets-6/
LOCATION:Tailgaters\, 431 W Boughton Road\, Bolingbrook\, IL\, 60440\, United States
CATEGORIES:Lounge Puppets
ATTACH;FMTTYPE=image/jpeg:https://laurawollenberg.com/wp-content/uploads/2025/06/LoungePuppets.jpeg
END:VEVENT
BEGIN:VEVENT
DTSTART;TZID=America/Chicago:20260328T193000
DTEND;TZID=America/Chicago:20260328T223000
DTSTAMP:20260421T185251
CREATED:20260127T175143Z
LAST-MODIFIED:20260127T175143Z
UID:10928-1774726200-1774737000@laurawollenberg.com
SUMMARY:InFunktious
DESCRIPTION:Playing at Open Range Grill\, Sugar Grove\, IL
URL:https://laurawollenberg.com/event/infunktious-12/
LOCATION:Open Range Grill\, 1 Golf View Road\, Sugar Grove\, IL\, 60554\, United States
CATEGORIES:InFunktious
ATTACH;FMTTYPE=image/png:https://laurawollenberg.com/wp-content/uploads/2025/01/Infunktious-1.png
END:VEVENT
BEGIN:VEVENT
DTSTART;TZID=America/Chicago:20260328T200000
DTEND;TZID=America/Chicago:20260328T230000
DTSTAMP:20260421T185251
CREATED:20260202T201551Z
LAST-MODIFIED:20260202T201551Z
UID:11125-1774728000-1774738800@laurawollenberg.com
SUMMARY:Wildwood Country Band
DESCRIPTION:Playing at Dock’s Bar & Grill\, Wauconda\, IL
URL:https://laurawollenberg.com/event/wildwood-country-band-24/
LOCATION:Dock’s Bar & Grill\, 313 E. Liberty Street\, Wauconda\, IL\, 60084\, United States
CATEGORIES:Wildwood Country Band
ATTACH;FMTTYPE=image/jpeg:https://laurawollenberg.com/wp-content/uploads/2025/11/wildwoodcountry.jpeg
END:VEVENT
BEGIN:VEVENT
DTSTART;TZID=America/Chicago:20260328T203000
DTEND;TZID=America/Chicago:20260328T233000
DTSTAMP:20260421T185251
CREATED:20260122T215033Z
LAST-MODIFIED:20260122T215033Z
UID:10860-1774729800-1774740600@laurawollenberg.com
SUMMARY:Cheap Foreign Cars
DESCRIPTION:Playing at Two Brothers Roundhouse\, Aurora\, IL
URL:https://laurawollenberg.com/event/cheap-foreign-cars-8/
LOCATION:Two Brothers Roundhouse\, 205 N. Broadway\, Aurora\, IL\, 60505\, United States
CATEGORIES:Cheap Foreign Cars
ATTACH;FMTTYPE=image/png:https://laurawollenberg.com/wp-content/uploads/2025/10/CFCBnd.png
END:VEVENT
BEGIN:VEVENT
DTSTART;TZID=America/Chicago:20260328T210000
DTEND;TZID=America/Chicago:20260328T233000
DTSTAMP:20260421T185251
CREATED:20260124T194828Z
LAST-MODIFIED:20260124T194828Z
UID:10900-1774731600-1774740600@laurawollenberg.com
SUMMARY:Hairbangers Ball
DESCRIPTION:Playing at Kelly’s Bleachers II\, Wind Lake\, WI
URL:https://laurawollenberg.com/event/hairbangers-ball-21/
LOCATION:Kelly’s Bleachers II\, 7805 S. Loomis Road\, Wind Lake\, WI\, 53185\, United States
CATEGORIES:Hairbangers Ball
ATTACH;FMTTYPE=image/png:https://laurawollenberg.com/wp-content/uploads/2024/05/hairbangers.png
END:VEVENT
BEGIN:VEVENT
DTSTART;TZID=America/Chicago:20260328T210000
DTEND;TZID=America/Chicago:20260328T233000
DTSTAMP:20260421T185251
CREATED:20260127T173059Z
LAST-MODIFIED:20260127T173059Z
UID:10910-1774731600-1774740600@laurawollenberg.com
SUMMARY:Hi Infidelity
DESCRIPTION:Playing at Bannerman’s Sports Grill\, Bartlett\, IL
URL:https://laurawollenberg.com/event/hi-infidelity-4/
LOCATION:Bannerman’s Sports Grill\, 858 S. IL Rte 59\, Bartlett\, IL\, 60103\, United States
CATEGORIES:Hi Infidelity
ATTACH;FMTTYPE=image/jpeg:https://laurawollenberg.com/wp-content/uploads/2025/04/hiinfideity-scaled.jpg
END:VEVENT
BEGIN:VEVENT
DTSTART;TZID=America/Chicago:20260328T210000
DTEND;TZID=America/Chicago:20260328T233000
DTSTAMP:20260421T185251
CREATED:20260127T180854Z
LAST-MODIFIED:20260127T180854Z
UID:10938-1774731600-1774740600@laurawollenberg.com
SUMMARY:Jessie's Girl Chicago
DESCRIPTION:Playing at Tony D’s\, Elmwood Park\, IL
URL:https://laurawollenberg.com/event/jessies-girl-chicago-8/
LOCATION:Tony D’s\, 7725 W. Belmont Avenue\, Elmwood Park\, IL\, 60707\, United States
CATEGORIES:Jessie's Girl Chicago
ATTACH;FMTTYPE=image/png:https://laurawollenberg.com/wp-content/uploads/2025/07/jessiesgirlchi-e1751481680209.png
END:VEVENT
BEGIN:VEVENT
DTSTART;TZID=America/Chicago:20260328T210000
DTEND;TZID=America/Chicago:20260328T233000
DTSTAMP:20260421T185251
CREATED:20260128T215538Z
LAST-MODIFIED:20260128T215538Z
UID:11004-1774731600-1774740600@laurawollenberg.com
SUMMARY:My 80's Band
DESCRIPTION:Playing at Shortstops Grill & Bar\, Chicago Ridge\, IL
URL:https://laurawollenberg.com/event/my-80s-band-25/
LOCATION:Shortstops Grill & Bar\, 5944 W. 111th Street\, Chicago Ridge\, IL\, 60415\, United States
CATEGORIES:My 80's Band
ATTACH;FMTTYPE=image/png:https://laurawollenberg.com/wp-content/uploads/2025/04/My80sBand.png
END:VEVENT
BEGIN:VEVENT
DTSTART;TZID=America/Chicago:20260328T210000
DTEND;TZID=America/Chicago:20260328T233000
DTSTAMP:20260421T185251
CREATED:20260202T165204Z
LAST-MODIFIED:20260202T165204Z
UID:11090-1774731600-1774740600@laurawollenberg.com
SUMMARY:Snap Shot
DESCRIPTION:Playing at Ballydoyle Irish Pub\, Downers Grove\, IL
URL:https://laurawollenberg.com/event/snap-shot-5/
LOCATION:Ballydoyle Irish Pub – Downers Grove\, 5157 Main Street\, Downers Grove\, IL\, 60515\, United States
CATEGORIES:Snap Shot
ATTACH;FMTTYPE=image/jpeg:https://laurawollenberg.com/wp-content/uploads/2025/09/SnapShot.jpg
END:VEVENT
END:VCALENDAR