BEGIN:VCALENDAR
VERSION:2.0
PRODID:-//Laura Wollenberg - ECPv6.15.20//NONSGML v1.0//EN
CALSCALE:GREGORIAN
METHOD:PUBLISH
X-WR-CALNAME:Laura Wollenberg
X-ORIGINAL-URL:https://laurawollenberg.com
X-WR-CALDESC:Events for Laura Wollenberg
REFRESH-INTERVAL;VALUE=DURATION:PT1H
X-Robots-Tag:noindex
X-PUBLISHED-TTL:PT1H
BEGIN:VTIMEZONE
TZID:America/Chicago
BEGIN:DAYLIGHT
TZOFFSETFROM:-0600
TZOFFSETTO:-0500
TZNAME:CDT
DTSTART:20250309T080000
END:DAYLIGHT
BEGIN:STANDARD
TZOFFSETFROM:-0500
TZOFFSETTO:-0600
TZNAME:CST
DTSTART:20251102T070000
END:STANDARD
BEGIN:DAYLIGHT
TZOFFSETFROM:-0600
TZOFFSETTO:-0500
TZNAME:CDT
DTSTART:20260308T080000
END:DAYLIGHT
BEGIN:STANDARD
TZOFFSETFROM:-0500
TZOFFSETTO:-0600
TZNAME:CST
DTSTART:20261101T070000
END:STANDARD
BEGIN:DAYLIGHT
TZOFFSETFROM:-0600
TZOFFSETTO:-0500
TZNAME:CDT
DTSTART:20270314T080000
END:DAYLIGHT
BEGIN:STANDARD
TZOFFSETFROM:-0500
TZOFFSETTO:-0600
TZNAME:CST
DTSTART:20271107T070000
END:STANDARD
END:VTIMEZONE
BEGIN:VEVENT
DTSTART;TZID=America/Chicago:20260516T073000
DTEND;TZID=America/Chicago:20260516T223000
DTSTAMP:20260420T165150
CREATED:20260330T135402Z
LAST-MODIFIED:20260330T135402Z
UID:12075-1778916600-1778970600@laurawollenberg.com
SUMMARY:My 80's Band
DESCRIPTION:@ American Legion Post 1977\, New Lenox\, IL
URL:https://laurawollenberg.com/event/my-80s-band-11/
LOCATION:American Legion Post 1977 New Lenox\, 14414 Ford Drive\, New Lenox\, IL\, 60451\, United States
CATEGORIES:My 80's Band
ATTACH;FMTTYPE=image/png:https://laurawollenberg.com/wp-content/uploads/2025/04/My80sBand.png
END:VEVENT
BEGIN:VEVENT
DTSTART;TZID=America/Chicago:20260516T180000
DTEND;TZID=America/Chicago:20260516T210000
DTSTAMP:20260420T165150
CREATED:20260402T204547Z
LAST-MODIFIED:20260402T204547Z
UID:12115-1778954400-1778965200@laurawollenberg.com
SUMMARY:Pino Farina Band
DESCRIPTION:@ Sew Hop’d Brewery\, Huntley\, IL
URL:https://laurawollenberg.com/event/pino-farina-band-10/
LOCATION:Sew Hop’d Brewery\, One Union Special Plaza\, Ste 113\, Huntley\, IL\, 60142\, United States
CATEGORIES:Pino Farina Band
ATTACH;FMTTYPE=image/png:https://laurawollenberg.com/wp-content/uploads/2025/04/PinoFarinaBand.png
END:VEVENT
BEGIN:VEVENT
DTSTART;TZID=America/Chicago:20260516T200000
DTEND;TZID=America/Chicago:20260516T223000
DTSTAMP:20260420T165150
CREATED:20260324T234253Z
LAST-MODIFIED:20260324T234253Z
UID:11994-1778961600-1778970600@laurawollenberg.com
SUMMARY:Jagged Little Pill
DESCRIPTION:@ The Vixen\, McHenry\, IL
URL:https://laurawollenberg.com/event/jagged-little-pill-5/
LOCATION:The Vixen\, 1208 N. Green Street\, McHenry\, IL\, 60050\, United States
CATEGORIES:Jagged Little Pill,Sunset Strip Acoustic
ATTACH;FMTTYPE=image/png:https://laurawollenberg.com/wp-content/uploads/2025/04/JaggedLittlePill-scaled.png
END:VEVENT
BEGIN:VEVENT
DTSTART;TZID=America/Chicago:20260516T200000
DTEND;TZID=America/Chicago:20260516T230000
DTSTAMP:20260420T165150
CREATED:20260328T175406Z
LAST-MODIFIED:20260328T181203Z
UID:12048-1778961600-1778972400@laurawollenberg.com
SUMMARY:Libido Funk Circus
DESCRIPTION:@ Front Street Fest\, Mokena\, IL
URL:https://laurawollenberg.com/event/libido-funk-circus-18/
LOCATION:Mokena Front Street Fest\, 11104 Front Street\, Mokena\, IL\, 60448\, United States
CATEGORIES:Libido Funk Circus
ATTACH;FMTTYPE=image/png:https://laurawollenberg.com/wp-content/uploads/2025/04/libidoFunkCircus.png
END:VEVENT
BEGIN:VEVENT
DTSTART;TZID=America/Chicago:20260516T200000
DTEND;TZID=America/Chicago:20260516T230000
DTSTAMP:20260420T165150
CREATED:20260405T134347Z
LAST-MODIFIED:20260405T134347Z
UID:12175-1778961600-1778972400@laurawollenberg.com
SUMMARY:Sixteen Candles
DESCRIPTION:@ Lincoln Park Mayfest\, Chicago\, IL
URL:https://laurawollenberg.com/event/sixteen-candles-13/
LOCATION:Chicago Lincoln Park Mayfest\, 1000 W. Armitage Avenue\, Chicago\, IL\, 60614\, United States
CATEGORIES:Sixteen Candles
ATTACH;FMTTYPE=image/jpeg:https://laurawollenberg.com/wp-content/uploads/2026/01/16Candles.jpeg
END:VEVENT
BEGIN:VEVENT
DTSTART;TZID=America/Chicago:20260516T200000
DTEND;TZID=America/Chicago:20260516T230000
DTSTAMP:20260420T165150
CREATED:20260405T145105Z
LAST-MODIFIED:20260405T145105Z
UID:12178-1778961600-1778972400@laurawollenberg.com
SUMMARY:Snap Shot
DESCRIPTION:@ Corrigan’s Pub\, Shorewood\, IL
URL:https://laurawollenberg.com/event/snap-shot-8/
LOCATION:Corrigan’s Pub\, 700 W. Jefferson Street\, Shorewood\, IL\, 60431\, United States
CATEGORIES:Snap Shot
ATTACH;FMTTYPE=image/jpeg:https://laurawollenberg.com/wp-content/uploads/2025/09/SnapShot.jpg
END:VEVENT
BEGIN:VEVENT
DTSTART;TZID=America/Chicago:20260516T210000
DTEND;TZID=America/Chicago:20260516T233000
DTSTAMP:20260420T165150
CREATED:20260324T211753Z
LAST-MODIFIED:20260324T211753Z
UID:11987-1778965200-1778974200@laurawollenberg.com
SUMMARY:Hi Infidelity
DESCRIPTION:Playing at EvenFlow\, Geneva\, IL
URL:https://laurawollenberg.com/event/hi-infidelity-8/
LOCATION:EvenFlow\, 302 W. State Street\, Geneva\, IL\, 60134\, United States
CATEGORIES:Hi Infidelity
ATTACH;FMTTYPE=image/jpeg:https://laurawollenberg.com/wp-content/uploads/2025/04/hiinfideity-scaled.jpg
END:VEVENT
BEGIN:VEVENT
DTSTART;TZID=America/Chicago:20260516T210000
DTEND;TZID=America/Chicago:20260516T233000
DTSTAMP:20260420T165150
CREATED:20260404T140534Z
LAST-MODIFIED:20260404T140534Z
UID:12150-1778965200-1778974200@laurawollenberg.com
SUMMARY:Seven Soul
DESCRIPTION:@ Madcats\, Palatine\, IL
URL:https://laurawollenberg.com/event/seven-soul/
LOCATION:Madcats\, 117 W. Slade Street\, Palatine\, IL\, 60067\, United States
CATEGORIES:Seven Soul
ATTACH;FMTTYPE=image/png:https://laurawollenberg.com/wp-content/uploads/2024/09/sevensoul.png
END:VEVENT
BEGIN:VEVENT
DTSTART;TZID=America/Chicago:20260516T210000
DTEND;TZID=America/Chicago:20260516T233000
DTSTAMP:20260420T165150
CREATED:20260405T163921Z
LAST-MODIFIED:20260405T163921Z
UID:12212-1778965200-1778974200@laurawollenberg.com
SUMMARY:Wildwood Country Band
DESCRIPTION:@ Gustos Bar & Grill\, Crest Hill\, IL
URL:https://laurawollenberg.com/event/wildwood-country-band-7/
LOCATION:Gustos Bar & Grill\, 2115 Plainfield Road\, Crest Hill\, IL\, 60403\, United States
CATEGORIES:Wildwood Country Band
ATTACH;FMTTYPE=image/jpeg:https://laurawollenberg.com/wp-content/uploads/2025/11/wildwoodcountry.jpeg
END:VEVENT
BEGIN:VEVENT
DTSTART;TZID=America/Chicago:20260516T213000
DTEND;TZID=America/Chicago:20260516T233000
DTSTAMP:20260420T165150
CREATED:20260324T191134Z
LAST-MODIFIED:20260324T191134Z
UID:11979-1778967000-1778974200@laurawollenberg.com
SUMMARY:HairNation Chicago
DESCRIPTION:Playing at Paulie’s Pub & Eatery\, West Allis\, WI
URL:https://laurawollenberg.com/event/hairnation-chicago-3/
LOCATION:Paulie’s Pub & Eatery\, 8031 W. Greenfield Avenue\, West Allis\, WI\, 53214\, United States
CATEGORIES:HairNation Chicago
ATTACH;FMTTYPE=image/jpeg:https://laurawollenberg.com/wp-content/uploads/2024/08/HairNation.jpg
END:VEVENT
END:VCALENDAR