BEGIN:VCALENDAR
VERSION:2.0
PRODID:-//Laura Wollenberg - ECPv6.15.20//NONSGML v1.0//EN
CALSCALE:GREGORIAN
METHOD:PUBLISH
X-WR-CALNAME:Laura Wollenberg
X-ORIGINAL-URL:https://laurawollenberg.com
X-WR-CALDESC:Events for Laura Wollenberg
REFRESH-INTERVAL;VALUE=DURATION:PT1H
X-Robots-Tag:noindex
X-PUBLISHED-TTL:PT1H
BEGIN:VTIMEZONE
TZID:America/Chicago
BEGIN:DAYLIGHT
TZOFFSETFROM:-0600
TZOFFSETTO:-0500
TZNAME:CDT
DTSTART:20250309T080000
END:DAYLIGHT
BEGIN:STANDARD
TZOFFSETFROM:-0500
TZOFFSETTO:-0600
TZNAME:CST
DTSTART:20251102T070000
END:STANDARD
BEGIN:DAYLIGHT
TZOFFSETFROM:-0600
TZOFFSETTO:-0500
TZNAME:CDT
DTSTART:20260308T080000
END:DAYLIGHT
BEGIN:STANDARD
TZOFFSETFROM:-0500
TZOFFSETTO:-0600
TZNAME:CST
DTSTART:20261101T070000
END:STANDARD
BEGIN:DAYLIGHT
TZOFFSETFROM:-0600
TZOFFSETTO:-0500
TZNAME:CDT
DTSTART:20270314T080000
END:DAYLIGHT
BEGIN:STANDARD
TZOFFSETFROM:-0500
TZOFFSETTO:-0600
TZNAME:CST
DTSTART:20271107T070000
END:STANDARD
END:VTIMEZONE
BEGIN:VEVENT
DTSTART;TZID=America/Chicago:20260418T143000
DTEND;TZID=America/Chicago:20260418T173000
DTSTAMP:20260423T040330
CREATED:20260402T204010Z
LAST-MODIFIED:20260402T204010Z
UID:12110-1776522600-1776533400@laurawollenberg.com
SUMMARY:Pino Farina Band
DESCRIPTION:@ Broken Oar\, Port Barrington\, IL
URL:https://laurawollenberg.com/event/pino-farina-band-8/
LOCATION:Broken Oar\, 614 Rawson Bridge Road\, Port Barrington\, IL\, 60010\, United States
CATEGORIES:Pino Farina Band
ATTACH;FMTTYPE=image/png:https://laurawollenberg.com/wp-content/uploads/2025/04/PinoFarinaBand.png
END:VEVENT
BEGIN:VEVENT
DTSTART;TZID=America/Chicago:20260411T210000
DTEND;TZID=America/Chicago:20260411T233000
DTSTAMP:20260423T040330
CREATED:20260401T233509Z
LAST-MODIFIED:20260401T234718Z
UID:12106-1775941200-1775950200@laurawollenberg.com
SUMMARY:Pino Farina Band
DESCRIPTION:@ Bannerman’s Bar & Grill\, Bartlett\, IL
URL:https://laurawollenberg.com/event/pino-farina-band-6/
LOCATION:Bannerman’s Sports Grill\, 858 S. IL Rte 59\, Bartlett\, IL\, 60103\, United States
CATEGORIES:Pino Farina Band
ATTACH;FMTTYPE=image/png:https://laurawollenberg.com/wp-content/uploads/2025/04/PinoFarinaBand.png
END:VEVENT
BEGIN:VEVENT
DTSTART;TZID=America/Chicago:20260410T200000
DTEND;TZID=America/Chicago:20260410T230000
DTSTAMP:20260423T040330
CREATED:20260222T152631Z
LAST-MODIFIED:20260222T152631Z
UID:11458-1775851200-1775862000@laurawollenberg.com
SUMMARY:Pino Farina Band
DESCRIPTION:Playing at Jonny Cab’s\, Burr Ridge\, IL
URL:https://laurawollenberg.com/event/pino-farina-band-5/
LOCATION:Jonny Cab’s\, 212 Burr Ridge Parkway\, Burr Ridge\, IL\, 60527\, United States
CATEGORIES:Pino Farina Band
ATTACH;FMTTYPE=image/png:https://laurawollenberg.com/wp-content/uploads/2025/04/PinoFarinaBand.png
END:VEVENT
BEGIN:VEVENT
DTSTART;TZID=America/Chicago:20260321T210000
DTEND;TZID=America/Chicago:20260321T233000
DTSTAMP:20260423T040330
CREATED:20260201T000358Z
LAST-MODIFIED:20260201T000358Z
UID:11024-1774126800-1774135800@laurawollenberg.com
SUMMARY:Pino Farina Band
DESCRIPTION:Playing at EvenFlow\, Geneva\, L
URL:https://laurawollenberg.com/event/pino-farina-band-2/
LOCATION:EvenFlow\, 302 W. State Street\, Geneva\, IL\, 60134\, United States
CATEGORIES:Pino Farina Band
ATTACH;FMTTYPE=image/png:https://laurawollenberg.com/wp-content/uploads/2025/04/PinoFarinaBand.png
END:VEVENT
BEGIN:VEVENT
DTSTART;TZID=America/Chicago:20260315T140000
DTEND;TZID=America/Chicago:20260315T170000
DTSTAMP:20260423T040330
CREATED:20260201T000524Z
LAST-MODIFIED:20260201T000524Z
UID:11026-1773583200-1773594000@laurawollenberg.com
SUMMARY:Pino Farina Band
DESCRIPTION:Playing at Sew Hop’d\, Huntley\, IL
URL:https://laurawollenberg.com/event/pino-farina-band-3/
LOCATION:Sew Hop’d Brewery\, One Union Special Plaza\, Ste 113\, Huntley\, IL\, 60142\, United States
CATEGORIES:Pino Farina Band
ATTACH;FMTTYPE=image/png:https://laurawollenberg.com/wp-content/uploads/2025/04/PinoFarinaBand.png
END:VEVENT
BEGIN:VEVENT
DTSTART;TZID=America/Chicago:20260314T180000
DTEND;TZID=America/Chicago:20260314T210000
DTSTAMP:20260423T040330
CREATED:20260131T235508Z
LAST-MODIFIED:20260131T235508Z
UID:11022-1773511200-1773522000@laurawollenberg.com
SUMMARY:Pino Farina Band
DESCRIPTION:Playing at Broken Oar\, Port Barrington\, IL \nwith Tennessee Whiskey & Semple
URL:https://laurawollenberg.com/event/pino-farina-band/
LOCATION:Broken Oar\, 614 Rawson Bridge Road\, Port Barrington\, IL\, 60010\, United States
CATEGORIES:Pino Farina Band
ATTACH;FMTTYPE=image/png:https://laurawollenberg.com/wp-content/uploads/2025/04/PinoFarinaBand.png
END:VEVENT
BEGIN:VEVENT
DTSTART;TZID=America/Chicago:20260227T210000
DTEND;TZID=America/Chicago:20260227T233000
DTSTAMP:20260423T040330
CREATED:20260222T151614Z
LAST-MODIFIED:20260222T151614Z
UID:11452-1772226000-1772235000@laurawollenberg.com
SUMMARY:Pino Farina Band
DESCRIPTION:Playing at Sundance Saloon\, Mundelein\, IL\nwith Oh Yes!
URL:https://laurawollenberg.com/event/pino-farina-band-4/
LOCATION:Sundance Saloon\, 2061 W. Maple Avenue\, Mundelein\, IL\, 60060\, United States
CATEGORIES:Pino Farina Band
ATTACH;FMTTYPE=image/png:https://laurawollenberg.com/wp-content/uploads/2025/04/PinoFarinaBand.png
END:VEVENT
BEGIN:VEVENT
DTSTART;TZID=America/Chicago:20260207T180000
DTEND;TZID=America/Chicago:20260207T210000
DTSTAMP:20260423T040330
CREATED:20260103T145248Z
LAST-MODIFIED:20260103T145248Z
UID:10707-1770487200-1770498000@laurawollenberg.com
SUMMARY:Pino Farina Band
DESCRIPTION:Playing at Sew Hop’d Brewery\, Huntley\, IL
URL:https://laurawollenberg.com/event/pino-farina-band-18/
LOCATION:Sew Hop’d Brewery\, One Union Special Plaza\, Ste 113\, Huntley\, IL\, 60142\, United States
CATEGORIES:Pino Farina Band
ATTACH;FMTTYPE=image/png:https://laurawollenberg.com/wp-content/uploads/2025/04/PinoFarinaBand.png
END:VEVENT
BEGIN:VEVENT
DTSTART;TZID=America/Chicago:20260131T200000
DTEND;TZID=America/Chicago:20260131T230000
DTSTAMP:20260423T040330
CREATED:20260103T144126Z
LAST-MODIFIED:20260103T144126Z
UID:10705-1769889600-1769900400@laurawollenberg.com
SUMMARY:Pino Farina Band
DESCRIPTION:Playing at Jonny Cab’s\, Burr Ridge\, IL
URL:https://laurawollenberg.com/event/pino-farina-band-17/
LOCATION:Jonny Cab’s\, 212 Burr Ridge Parkway\, Burr Ridge\, IL\, 60527\, United States
CATEGORIES:Pino Farina Band
ATTACH;FMTTYPE=image/png:https://laurawollenberg.com/wp-content/uploads/2025/04/PinoFarinaBand.png
END:VEVENT
END:VCALENDAR