BEGIN:VCALENDAR
VERSION:2.0
PRODID:-//Laura Wollenberg - ECPv6.15.20//NONSGML v1.0//EN
CALSCALE:GREGORIAN
METHOD:PUBLISH
X-WR-CALNAME:Laura Wollenberg
X-ORIGINAL-URL:https://laurawollenberg.com
X-WR-CALDESC:Events for Laura Wollenberg
REFRESH-INTERVAL;VALUE=DURATION:PT1H
X-Robots-Tag:noindex
X-PUBLISHED-TTL:PT1H
BEGIN:VTIMEZONE
TZID:America/Chicago
BEGIN:DAYLIGHT
TZOFFSETFROM:-0600
TZOFFSETTO:-0500
TZNAME:CDT
DTSTART:20250309T080000
END:DAYLIGHT
BEGIN:STANDARD
TZOFFSETFROM:-0500
TZOFFSETTO:-0600
TZNAME:CST
DTSTART:20251102T070000
END:STANDARD
BEGIN:DAYLIGHT
TZOFFSETFROM:-0600
TZOFFSETTO:-0500
TZNAME:CDT
DTSTART:20260308T080000
END:DAYLIGHT
BEGIN:STANDARD
TZOFFSETFROM:-0500
TZOFFSETTO:-0600
TZNAME:CST
DTSTART:20261101T070000
END:STANDARD
BEGIN:DAYLIGHT
TZOFFSETFROM:-0600
TZOFFSETTO:-0500
TZNAME:CDT
DTSTART:20270314T080000
END:DAYLIGHT
BEGIN:STANDARD
TZOFFSETFROM:-0500
TZOFFSETTO:-0600
TZNAME:CST
DTSTART:20271107T070000
END:STANDARD
END:VTIMEZONE
BEGIN:VEVENT
DTSTART;TZID=America/Chicago:20260123T200000
DTEND;TZID=America/Chicago:20260123T230000
DTSTAMP:20260419T143518
CREATED:20251125T191557Z
LAST-MODIFIED:20260102T153117Z
UID:9031-1769198400-1769209200@laurawollenberg.com
SUMMARY:Pearlsnap
DESCRIPTION:Playing at Broken Oar\, Port Barrington\, IL
URL:https://laurawollenberg.com/event/pearlsnap-7/
LOCATION:Broken Oar\, 614 Rawson Bridge Road\, Port Barrington\, IL\, 60010\, United States
CATEGORIES:Pearlsnap
ATTACH;FMTTYPE=image/jpeg:https://laurawollenberg.com/wp-content/uploads/2025/09/pearlsnap.jpeg
END:VEVENT
BEGIN:VEVENT
DTSTART;TZID=America/Chicago:20260123T200000
DTEND;TZID=America/Chicago:20260123T223000
DTSTAMP:20260419T143518
CREATED:20260103T180010Z
LAST-MODIFIED:20260103T180010Z
UID:10745-1769198400-1769207400@laurawollenberg.com
SUMMARY:Wildeye Band
DESCRIPTION:Playing at Mugshots\, Homer Glen\, IL
URL:https://laurawollenberg.com/event/wildeye-band/
LOCATION:Mugshots\, 13031 W. 143rd Street\, Homer Glen\, IL\, United States
CATEGORIES:Wildeye Band
ATTACH;FMTTYPE=image/jpeg:https://laurawollenberg.com/wp-content/uploads/2026/01/WildeyeBand.jpg
END:VEVENT
BEGIN:VEVENT
DTSTART;TZID=America/Chicago:20260123T190000
DTEND;TZID=America/Chicago:20260123T220000
DTSTAMP:20260419T143518
CREATED:20260122T212723Z
LAST-MODIFIED:20260122T212723Z
UID:10848-1769194800-1769205600@laurawollenberg.com
SUMMARY:Bottomz Up
DESCRIPTION:Playing at Hollywood Casino\, Joliet\, IL
URL:https://laurawollenberg.com/event/bottomz-up/
LOCATION:Hollywood Casino Joliet\, 1401 Gateway Blvd\, Joliet\, IL\, 60431\, United States
CATEGORIES:Bottomz Up
ATTACH;FMTTYPE=image/jpeg:https://laurawollenberg.com/wp-content/uploads/2024/11/bottomzupband.jpg
END:VEVENT
BEGIN:VEVENT
DTSTART;TZID=America/Chicago:20260123T190000
DTEND;TZID=America/Chicago:20260123T220000
DTSTAMP:20260419T143518
CREATED:20260103T160528Z
LAST-MODIFIED:20260103T160528Z
UID:10713-1769194800-1769205600@laurawollenberg.com
SUMMARY:Rumor Hazit
DESCRIPTION:Playing at Old Republic Kitchen + Bar\, Elgin\, IL
URL:https://laurawollenberg.com/event/rumor-hazit-5/
LOCATION:Old Republic Kitchen+Bar\, 155 S. Randall Road\, Elgin\, IL\, 60123\, United States
CATEGORIES:Rumor Hazit
ATTACH;FMTTYPE=image/jpeg:https://laurawollenberg.com/wp-content/uploads/2025/04/Rumor-Hazit-scaled.jpg
END:VEVENT
BEGIN:VEVENT
DTSTART;TZID=America/Chicago:20260123T190000
DTEND;TZID=America/Chicago:20260123T220000
DTSTAMP:20260419T143518
CREATED:20251122T223456Z
LAST-MODIFIED:20251213T152859Z
UID:8918-1769194800-1769205600@laurawollenberg.com
SUMMARY:Empress Unplugged
DESCRIPTION:Playing at Nikos\, Marengo\, IL
URL:https://laurawollenberg.com/event/empress-6/
LOCATION:Niko’s Grill & Pub\, 7509 S. Grant Highway\, Marengo\, IL\, 60152\, United States
END:VEVENT
BEGIN:VEVENT
DTSTART;TZID=America/Chicago:20260123T183000
DTEND;TZID=America/Chicago:20260123T213000
DTSTAMP:20260419T143518
CREATED:20251231T163351Z
LAST-MODIFIED:20251231T163351Z
UID:10634-1769193000-1769203800@laurawollenberg.com
SUMMARY:InFunktious
DESCRIPTION:Playing at The Red Barn\, Mt. Prospect\, IL
URL:https://laurawollenberg.com/event/infunktious-5/
LOCATION:The Red Barn\, 303 E. Kensington Road\, Mount Prospect\, IL\, 60056\, United States
CATEGORIES:InFunktious
ATTACH;FMTTYPE=image/png:https://laurawollenberg.com/wp-content/uploads/2025/01/Infunktious-1.png
END:VEVENT
BEGIN:VEVENT
DTSTART;TZID=America/Chicago:20260122T190000
DTEND;TZID=America/Chicago:20260122T220000
DTSTAMP:20260419T143518
CREATED:20251213T190037Z
LAST-MODIFIED:20251231T190741Z
UID:9974-1769108400-1769119200@laurawollenberg.com
SUMMARY:Members Only
DESCRIPTION:Playing at The Venue\, Aurora\, IL
URL:https://laurawollenberg.com/event/members-only-6/
LOCATION:The Venue\, 21 S. Broadway\, Aurora\, IL\, 60505\, United States
CATEGORIES:Members Only
ATTACH;FMTTYPE=image/png:https://laurawollenberg.com/wp-content/uploads/2025/12/MembersOnly.png
END:VEVENT
BEGIN:VEVENT
DTSTART;TZID=America/Chicago:20260121T200000
DTEND;TZID=America/Chicago:20260121T203000
DTSTAMP:20260419T143518
CREATED:20260102T150447Z
LAST-MODIFIED:20260102T150447Z
UID:10688-1769025600-1769027400@laurawollenberg.com
SUMMARY:OAF Band
DESCRIPTION:Playing 4 songs at Shannon’s Deli\, Lombard\, IL \n(Open Mic Night)
URL:https://laurawollenberg.com/event/oaf-band/
LOCATION:Shannon’s Deli\, 11 S. Park Avenue\, Lombard\, IL\, 60148\, United States
CATEGORIES:OAF Band
ATTACH;FMTTYPE=image/png:https://laurawollenberg.com/wp-content/uploads/2025/12/OAF2.png
END:VEVENT
END:VCALENDAR