BEGIN:VCALENDAR
VERSION:2.0
PRODID:-//Laura Wollenberg - ECPv6.15.20//NONSGML v1.0//EN
CALSCALE:GREGORIAN
METHOD:PUBLISH
X-ORIGINAL-URL:https://laurawollenberg.com
X-WR-CALDESC:Events for Laura Wollenberg
REFRESH-INTERVAL;VALUE=DURATION:PT1H
X-Robots-Tag:noindex
X-PUBLISHED-TTL:PT1H
BEGIN:VTIMEZONE
TZID:America/Chicago
BEGIN:DAYLIGHT
TZOFFSETFROM:-0600
TZOFFSETTO:-0500
TZNAME:CDT
DTSTART:20250309T080000
END:DAYLIGHT
BEGIN:STANDARD
TZOFFSETFROM:-0500
TZOFFSETTO:-0600
TZNAME:CST
DTSTART:20251102T070000
END:STANDARD
BEGIN:DAYLIGHT
TZOFFSETFROM:-0600
TZOFFSETTO:-0500
TZNAME:CDT
DTSTART:20260308T080000
END:DAYLIGHT
BEGIN:STANDARD
TZOFFSETFROM:-0500
TZOFFSETTO:-0600
TZNAME:CST
DTSTART:20261101T070000
END:STANDARD
BEGIN:DAYLIGHT
TZOFFSETFROM:-0600
TZOFFSETTO:-0500
TZNAME:CDT
DTSTART:20270314T080000
END:DAYLIGHT
BEGIN:STANDARD
TZOFFSETFROM:-0500
TZOFFSETTO:-0600
TZNAME:CST
DTSTART:20271107T070000
END:STANDARD
END:VTIMEZONE
BEGIN:VEVENT
DTSTART;TZID=America/Chicago:20260123T190000
DTEND;TZID=America/Chicago:20260123T220000
DTSTAMP:20260421T133602
CREATED:20260122T212723Z
LAST-MODIFIED:20260122T212723Z
UID:10848-1769194800-1769205600@laurawollenberg.com
SUMMARY:Bottomz Up
DESCRIPTION:Playing at Hollywood Casino\, Joliet\, IL
URL:https://laurawollenberg.com/event/bottomz-up/
LOCATION:Hollywood Casino Joliet\, 1401 Gateway Blvd\, Joliet\, IL\, 60431\, United States
CATEGORIES:Bottomz Up
ATTACH;FMTTYPE=image/jpeg:https://laurawollenberg.com/wp-content/uploads/2024/11/bottomzupband.jpg
END:VEVENT
BEGIN:VEVENT
DTSTART;TZID=America/Chicago:20260123T200000
DTEND;TZID=America/Chicago:20260123T223000
DTSTAMP:20260421T133602
CREATED:20260103T180010Z
LAST-MODIFIED:20260103T180010Z
UID:10745-1769198400-1769207400@laurawollenberg.com
SUMMARY:Wildeye Band
DESCRIPTION:Playing at Mugshots\, Homer Glen\, IL
URL:https://laurawollenberg.com/event/wildeye-band/
LOCATION:Mugshots\, 13031 W. 143rd Street\, Homer Glen\, IL\, United States
CATEGORIES:Wildeye Band
ATTACH;FMTTYPE=image/jpeg:https://laurawollenberg.com/wp-content/uploads/2026/01/WildeyeBand.jpg
END:VEVENT
BEGIN:VEVENT
DTSTART;TZID=America/Chicago:20260124T180000
DTEND;TZID=America/Chicago:20260124T200000
DTSTAMP:20260421T133602
CREATED:20260122T185324Z
LAST-MODIFIED:20260122T185324Z
UID:10842-1769277600-1769284800@laurawollenberg.com
SUMMARY:Blackberry Jam Duo
DESCRIPTION:Playing at Sew Hop’s Brewery\, Huntley\, IL
URL:https://laurawollenberg.com/event/blackberry-jam-duo/
LOCATION:Sew Hop’d Brewery\, One Union Special Plaza\, Ste 113\, Huntley\, IL\, 60142\, United States
CATEGORIES:Blackberry Jam Duo
ATTACH;FMTTYPE=image/jpeg:https://laurawollenberg.com/wp-content/uploads/2025/06/BlackberryJam.jpeg
END:VEVENT
BEGIN:VEVENT
DTSTART;TZID=America/Chicago:20260131T120000
DTEND;TZID=America/Chicago:20260131T150000
DTSTAMP:20260421T133602
CREATED:20251231T164126Z
LAST-MODIFIED:20251231T164126Z
UID:10641-1769860800-1769871600@laurawollenberg.com
SUMMARY:InFunktious
DESCRIPTION:Playing at PJ’s Courthouse Tavern\, Sycamore\, IL
URL:https://laurawollenberg.com/event/infunktious-23/
LOCATION:PJ’s Courthouse Tavern\, 202 W. State Street\, Sycamore\, IL\, 60178\, United States
CATEGORIES:InFunktious
ATTACH;FMTTYPE=image/png:https://laurawollenberg.com/wp-content/uploads/2025/01/Infunktious-1.png
END:VEVENT
BEGIN:VEVENT
DTSTART;TZID=America/Chicago:20260131T213000
DTEND;TZID=America/Chicago:20260131T233000
DTSTAMP:20260421T133602
CREATED:20251124T181143Z
LAST-MODIFIED:20251124T181143Z
UID:8981-1769895000-1769902200@laurawollenberg.com
SUMMARY:Kicked Outta Choir
DESCRIPTION:Playing at Mickey Finn’s Brewery\, Libertyville\, IL
URL:https://laurawollenberg.com/event/kicked-outta-choir-8/
LOCATION:Mickey Finn’s Brewery\, 345 N. Milwaukee Avenue\, Libertyville\, IL\, 60048\, United States
CATEGORIES:Kick Outta Choir
ATTACH;FMTTYPE=image/jpeg:https://laurawollenberg.com/wp-content/uploads/2025/04/kickedouttachoir.jpg
END:VEVENT
END:VCALENDAR